BEGIN:VCALENDAR
VERSION:2.0
PRODID:-//Ski-Club Salins - ECPv6.15.13//NONSGML v1.0//EN
CALSCALE:GREGORIAN
METHOD:PUBLISH
X-WR-CALNAME:Ski-Club Salins
X-ORIGINAL-URL:https://www.skiclubsalins.ch
X-WR-CALDESC:Évènements pour Ski-Club Salins
REFRESH-INTERVAL;VALUE=DURATION:PT1H
X-Robots-Tag:noindex
X-PUBLISHED-TTL:PT1H
BEGIN:VTIMEZONE
TZID:Europe/Zurich
BEGIN:DAYLIGHT
TZOFFSETFROM:+0100
TZOFFSETTO:+0200
TZNAME:CEST
DTSTART:20250330T010000
END:DAYLIGHT
BEGIN:STANDARD
TZOFFSETFROM:+0200
TZOFFSETTO:+0100
TZNAME:CET
DTSTART:20251026T010000
END:STANDARD
BEGIN:DAYLIGHT
TZOFFSETFROM:+0100
TZOFFSETTO:+0200
TZNAME:CEST
DTSTART:20260329T010000
END:DAYLIGHT
BEGIN:STANDARD
TZOFFSETFROM:+0200
TZOFFSETTO:+0100
TZNAME:CET
DTSTART:20261025T010000
END:STANDARD
BEGIN:DAYLIGHT
TZOFFSETFROM:+0100
TZOFFSETTO:+0200
TZNAME:CEST
DTSTART:20270328T010000
END:DAYLIGHT
BEGIN:STANDARD
TZOFFSETFROM:+0200
TZOFFSETTO:+0100
TZNAME:CET
DTSTART:20271031T010000
END:STANDARD
END:VTIMEZONE
BEGIN:VEVENT
DTSTART;TZID=Europe/Zurich:20260307T100000
DTEND;TZID=Europe/Zurich:20260307T160000
DTSTAMP:20260421T160409
CREATED:20251212T222227Z
LAST-MODIFIED:20251215T191957Z
UID:735-1772877600-1772899200@www.skiclubsalins.ch
SUMMARY:Journée 4 vallées 2026
DESCRIPTION:Journées 4 vallées des cours de ski enfants. \n\n\n\nLes enfants amènent leur pique-nique pour manger à midi.
URL:https://www.skiclubsalins.ch/evenement/journee-4-vallees-2026/
LOCATION:Point de rendez-vous ESS au sommet de la piste de l’Ours
CATEGORIES:Ski jeunesse
END:VEVENT
BEGIN:VEVENT
DTSTART;TZID=Europe/Zurich:20260307T103000
DTEND;TZID=Europe/Zurich:20260307T123000
DTSTAMP:20260421T160409
CREATED:20251212T223726Z
LAST-MODIFIED:20251215T192212Z
UID:757-1772879400-1772886600@www.skiclubsalins.ch
SUMMARY:Cours de ski adultes 2026 #5
DESCRIPTION:5ème journée des cours de ski adultes
URL:https://www.skiclubsalins.ch/evenement/cours-de-ski-adultes-2026-5/
LOCATION:Point de rendez-vous ESS au sommet de la piste de l’Ours
CATEGORIES:Ski pour adultes
END:VEVENT
END:VCALENDAR