BEGIN:VCALENDAR
VERSION:2.0
PRODID:-//Ski-Club Salins - ECPv6.15.13//NONSGML v1.0//EN
CALSCALE:GREGORIAN
METHOD:PUBLISH
X-WR-CALNAME:Ski-Club Salins
X-ORIGINAL-URL:https://www.skiclubsalins.ch
X-WR-CALDESC:Évènements pour Ski-Club Salins
REFRESH-INTERVAL;VALUE=DURATION:PT1H
X-Robots-Tag:noindex
X-PUBLISHED-TTL:PT1H
BEGIN:VTIMEZONE
TZID:Europe/Zurich
BEGIN:DAYLIGHT
TZOFFSETFROM:+0100
TZOFFSETTO:+0200
TZNAME:CEST
DTSTART:20250330T010000
END:DAYLIGHT
BEGIN:STANDARD
TZOFFSETFROM:+0200
TZOFFSETTO:+0100
TZNAME:CET
DTSTART:20251026T010000
END:STANDARD
BEGIN:DAYLIGHT
TZOFFSETFROM:+0100
TZOFFSETTO:+0200
TZNAME:CEST
DTSTART:20260329T010000
END:DAYLIGHT
BEGIN:STANDARD
TZOFFSETFROM:+0200
TZOFFSETTO:+0100
TZNAME:CET
DTSTART:20261025T010000
END:STANDARD
BEGIN:DAYLIGHT
TZOFFSETFROM:+0100
TZOFFSETTO:+0200
TZNAME:CEST
DTSTART:20270328T010000
END:DAYLIGHT
BEGIN:STANDARD
TZOFFSETFROM:+0200
TZOFFSETTO:+0100
TZNAME:CET
DTSTART:20271031T010000
END:STANDARD
END:VTIMEZONE
BEGIN:VEVENT
DTSTART;TZID=Europe/Zurich:20260314T100000
DTEND;TZID=Europe/Zurich:20260314T160000
DTSTAMP:20260421T205649
CREATED:20251212T222710Z
LAST-MODIFIED:20251215T192017Z
UID:739-1773482400-1773504000@www.skiclubsalins.ch
SUMMARY:Date de réserve pour la journée 4 vallées 2026
DESCRIPTION:Date de réserve pour la journée 4 vallées. \n\n\n\nCette journée n’a lieu que si la météo capricieuse empêche l’organisation de la journée 4 vallées à la date principale.
URL:https://www.skiclubsalins.ch/evenement/date-de-reserve-pour-la-journee-4-vallees-2026/
LOCATION:Point de rendez-vous ESS au sommet de la piste de l’Ours
CATEGORIES:Ski jeunesse
END:VEVENT
BEGIN:VEVENT
DTSTART;TZID=Europe/Zurich:20260314T103000
DTEND;TZID=Europe/Zurich:20260314T123000
DTSTAMP:20260421T205649
CREATED:20251212T223911Z
LAST-MODIFIED:20251215T192153Z
UID:759-1773484200-1773491400@www.skiclubsalins.ch
SUMMARY:Date de réserve pour le cours de ski adultes 2026 #5
DESCRIPTION:Date de réserve pour la 5ème journée des cours de ski adultes. \n\n\n\nCette journée n’a lieu que si la météo capricieuse empêche le déroulement de la 5ème journée de cours de ski adultes à la date principale.
URL:https://www.skiclubsalins.ch/evenement/date-de-reserve-pour-le-cours-de-ski-adultes-2026-5/
LOCATION:Point de rendez-vous ESS au sommet de la piste de l’Ours
CATEGORIES:Ski pour adultes
END:VEVENT
END:VCALENDAR