BEGIN:VCALENDAR
VERSION:2.0
PRODID:-//Ski-Club Salins - ECPv6.15.13//NONSGML v1.0//EN
CALSCALE:GREGORIAN
METHOD:PUBLISH
X-WR-CALNAME:Ski-Club Salins
X-ORIGINAL-URL:https://www.skiclubsalins.ch
X-WR-CALDESC:Évènements pour Ski-Club Salins
REFRESH-INTERVAL;VALUE=DURATION:PT1H
X-Robots-Tag:noindex
X-PUBLISHED-TTL:PT1H
BEGIN:VTIMEZONE
TZID:Europe/Zurich
BEGIN:DAYLIGHT
TZOFFSETFROM:+0100
TZOFFSETTO:+0200
TZNAME:CEST
DTSTART:20250330T010000
END:DAYLIGHT
BEGIN:STANDARD
TZOFFSETFROM:+0200
TZOFFSETTO:+0100
TZNAME:CET
DTSTART:20251026T010000
END:STANDARD
BEGIN:DAYLIGHT
TZOFFSETFROM:+0100
TZOFFSETTO:+0200
TZNAME:CEST
DTSTART:20260329T010000
END:DAYLIGHT
BEGIN:STANDARD
TZOFFSETFROM:+0200
TZOFFSETTO:+0100
TZNAME:CET
DTSTART:20261025T010000
END:STANDARD
BEGIN:DAYLIGHT
TZOFFSETFROM:+0100
TZOFFSETTO:+0200
TZNAME:CEST
DTSTART:20270328T010000
END:DAYLIGHT
BEGIN:STANDARD
TZOFFSETFROM:+0200
TZOFFSETTO:+0100
TZNAME:CET
DTSTART:20271031T010000
END:STANDARD
END:VTIMEZONE
BEGIN:VEVENT
DTSTART;TZID=Europe/Zurich:20261127T200000
DTEND;TZID=Europe/Zurich:20261127T220000
DTSTAMP:20260422T002847
CREATED:20251212T225335Z
LAST-MODIFIED:20251212T225335Z
UID:789-1795809600-1795816800@www.skiclubsalins.ch
SUMMARY:Assemblée Générale 2026
DESCRIPTION:
URL:https://www.skiclubsalins.ch/evenement/assemblee-generale-2026/
LOCATION:Ecole de Pravidondaz\, Rte de Pravidondaz 57\, Pravidondaz\, 1991
CATEGORIES:Divers
END:VEVENT
END:VCALENDAR