BEGIN:VCALENDAR
VERSION:2.0
PRODID:-//Ski-Club Salins - ECPv6.15.13//NONSGML v1.0//EN
CALSCALE:GREGORIAN
METHOD:PUBLISH
X-ORIGINAL-URL:https://www.skiclubsalins.ch
X-WR-CALDESC:Évènements pour Ski-Club Salins
REFRESH-INTERVAL;VALUE=DURATION:PT1H
X-Robots-Tag:noindex
X-PUBLISHED-TTL:PT1H
BEGIN:VTIMEZONE
TZID:Europe/Zurich
BEGIN:DAYLIGHT
TZOFFSETFROM:+0100
TZOFFSETTO:+0200
TZNAME:CEST
DTSTART:20250330T010000
END:DAYLIGHT
BEGIN:STANDARD
TZOFFSETFROM:+0200
TZOFFSETTO:+0100
TZNAME:CET
DTSTART:20251026T010000
END:STANDARD
BEGIN:DAYLIGHT
TZOFFSETFROM:+0100
TZOFFSETTO:+0200
TZNAME:CEST
DTSTART:20260329T010000
END:DAYLIGHT
BEGIN:STANDARD
TZOFFSETFROM:+0200
TZOFFSETTO:+0100
TZNAME:CET
DTSTART:20261025T010000
END:STANDARD
BEGIN:DAYLIGHT
TZOFFSETFROM:+0100
TZOFFSETTO:+0200
TZNAME:CEST
DTSTART:20270328T010000
END:DAYLIGHT
BEGIN:STANDARD
TZOFFSETFROM:+0200
TZOFFSETTO:+0100
TZNAME:CET
DTSTART:20271031T010000
END:STANDARD
END:VTIMEZONE
BEGIN:VEVENT
DTSTART;TZID=Europe/Zurich:20260606T080000
DTEND;TZID=Europe/Zurich:20260606T170000
DTSTAMP:20260421T232752
CREATED:20251212T224646Z
LAST-MODIFIED:20251212T224647Z
UID:773-1780732800-1780765200@www.skiclubsalins.ch
SUMMARY:Cleaning day 2026
DESCRIPTION:Nouveau cette année \n\n\n\nLa journée de nettoyage consiste à nous rendre sur les pistes de Thyon 2000\, à les sillonner ensemble pour ramasser un maximum de déchets.
URL:https://www.skiclubsalins.ch/evenement/cleaning-day-2026/
LOCATION:Ecole de Pravidondaz\, Rte de Pravidondaz 57\, Pravidondaz\, 1991
CATEGORIES:Divers
END:VEVENT
END:VCALENDAR