BEGIN:VCALENDAR
VERSION:2.0
PRODID:-//Ski-Club Salins - ECPv6.15.13//NONSGML v1.0//EN
CALSCALE:GREGORIAN
METHOD:PUBLISH
X-ORIGINAL-URL:https://www.skiclubsalins.ch
X-WR-CALDESC:Évènements pour Ski-Club Salins
REFRESH-INTERVAL;VALUE=DURATION:PT1H
X-Robots-Tag:noindex
X-PUBLISHED-TTL:PT1H
BEGIN:VTIMEZONE
TZID:Europe/Zurich
BEGIN:DAYLIGHT
TZOFFSETFROM:+0100
TZOFFSETTO:+0200
TZNAME:CEST
DTSTART:20250330T010000
END:DAYLIGHT
BEGIN:STANDARD
TZOFFSETFROM:+0200
TZOFFSETTO:+0100
TZNAME:CET
DTSTART:20251026T010000
END:STANDARD
BEGIN:DAYLIGHT
TZOFFSETFROM:+0100
TZOFFSETTO:+0200
TZNAME:CEST
DTSTART:20260329T010000
END:DAYLIGHT
BEGIN:STANDARD
TZOFFSETFROM:+0200
TZOFFSETTO:+0100
TZNAME:CET
DTSTART:20261025T010000
END:STANDARD
BEGIN:DAYLIGHT
TZOFFSETFROM:+0100
TZOFFSETTO:+0200
TZNAME:CEST
DTSTART:20270328T010000
END:DAYLIGHT
BEGIN:STANDARD
TZOFFSETFROM:+0200
TZOFFSETTO:+0100
TZNAME:CET
DTSTART:20271031T010000
END:STANDARD
END:VTIMEZONE
BEGIN:VEVENT
DTSTART;TZID=Europe/Zurich:20260110T133000
DTEND;TZID=Europe/Zurich:20260110T163000
DTSTAMP:20260421T205319
CREATED:20251212T221510Z
LAST-MODIFIED:20251215T191354Z
UID:720-1768051800-1768062600@www.skiclubsalins.ch
SUMMARY:Cours de ski enfants 2026 #1
DESCRIPTION:1ère journée des cours de ski enfants
URL:https://www.skiclubsalins.ch/evenement/cours-de-ski-enfants-2026-1/
LOCATION:Point de rendez-vous ESS au sommet de la piste de l’Ours
CATEGORIES:Ski jeunesse
END:VEVENT
BEGIN:VEVENT
DTSTART;TZID=Europe/Zurich:20260110T140000
DTEND;TZID=Europe/Zurich:20260110T160000
DTSTAMP:20260421T205319
CREATED:20251212T223250Z
LAST-MODIFIED:20251215T191535Z
UID:747-1768053600-1768060800@www.skiclubsalins.ch
SUMMARY:Cours refresh adultes 2026
DESCRIPTION:Le cours refresh est offert par le ski-club aux membres qui souhaitent revoir ou parfaire leur technique de ski.
URL:https://www.skiclubsalins.ch/evenement/cours-refresh-adultes-2026/
LOCATION:Point de rendez-vous ESS au sommet de la piste de l’Ours
CATEGORIES:Ski populaire,Ski pour adultes
END:VEVENT
BEGIN:VEVENT
DTSTART;TZID=Europe/Zurich:20260111T080000
DTEND;TZID=Europe/Zurich:20260111T170000
DTSTAMP:20260421T205319
CREATED:20251212T225045Z
LAST-MODIFIED:20251212T225045Z
UID:777-1768118400-1768150800@www.skiclubsalins.ch
SUMMARY:Course du val d'Hérens 2026 #1
DESCRIPTION:1ère course du val d’Hérens du trophée Hérens-Nendaz
URL:https://www.skiclubsalins.ch/evenement/course-du-val-dherens-2026-1/
LOCATION:Nendaz\, Nendaz\, 1997
CATEGORIES:Ski compétition
END:VEVENT
BEGIN:VEVENT
DTSTART;TZID=Europe/Zurich:20260117T133000
DTEND;TZID=Europe/Zurich:20260117T163000
DTSTAMP:20260421T205319
CREATED:20251212T221650Z
LAST-MODIFIED:20251215T191625Z
UID:724-1768656600-1768667400@www.skiclubsalins.ch
SUMMARY:Cours de ski enfants 2026 #2
DESCRIPTION:2ème journée des cours de ski enfants
URL:https://www.skiclubsalins.ch/evenement/cours-de-ski-enfants-2026-2/
LOCATION:Point de rendez-vous ESS au sommet de la piste de l’Ours
CATEGORIES:Ski jeunesse
END:VEVENT
BEGIN:VEVENT
DTSTART;TZID=Europe/Zurich:20260117T140000
DTEND;TZID=Europe/Zurich:20260117T160000
DTSTAMP:20260421T205319
CREATED:20251212T223349Z
LAST-MODIFIED:20251215T192335Z
UID:749-1768658400-1768665600@www.skiclubsalins.ch
SUMMARY:Cours de ski adultes 2026 #1
DESCRIPTION:1ère journée des cours adultes
URL:https://www.skiclubsalins.ch/evenement/cours-de-ski-adultes-2026-1/
LOCATION:Point de rendez-vous ESS au sommet de la piste de l’Ours
CATEGORIES:Ski pour adultes
END:VEVENT
BEGIN:VEVENT
DTSTART;TZID=Europe/Zurich:20260118T080000
DTEND;TZID=Europe/Zurich:20260118T170000
DTSTAMP:20260421T205319
CREATED:20251212T224050Z
LAST-MODIFIED:20251215T192707Z
UID:761-1768723200-1768755600@www.skiclubsalins.ch
SUMMARY:Sortie ski rando 2026 #1
DESCRIPTION:1ère sortie à ski rando
URL:https://www.skiclubsalins.ch/evenement/sortie-ski-rando-2026-1/
LOCATION:Ecole de Pravidondaz\, Rte de Pravidondaz 57\, Pravidondaz\, 1991
CATEGORIES:Ski rando
END:VEVENT
BEGIN:VEVENT
DTSTART;TZID=Europe/Zurich:20260124T133000
DTEND;TZID=Europe/Zurich:20260124T163000
DTSTAMP:20260421T205319
CREATED:20251212T221857Z
LAST-MODIFIED:20251215T191653Z
UID:729-1769261400-1769272200@www.skiclubsalins.ch
SUMMARY:Cours de ski enfants 2026 #3
DESCRIPTION:3ème journée des cours de ski enfants
URL:https://www.skiclubsalins.ch/evenement/cours-de-ski-enfants-2026-3/
LOCATION:Point de rendez-vous ESS au sommet de la piste de l’Ours
CATEGORIES:Ski jeunesse
END:VEVENT
BEGIN:VEVENT
DTSTART;TZID=Europe/Zurich:20260124T140000
DTEND;TZID=Europe/Zurich:20260124T160000
DTSTAMP:20260421T205319
CREATED:20251212T223445Z
LAST-MODIFIED:20251215T192312Z
UID:751-1769263200-1769270400@www.skiclubsalins.ch
SUMMARY:Cours de ski adultes 2026 #2
DESCRIPTION:2ème journée des cours de ski adultes
URL:https://www.skiclubsalins.ch/evenement/cours-de-ski-adultes-2026-2/
LOCATION:Point de rendez-vous ESS au sommet de la piste de l’Ours
CATEGORIES:Ski pour adultes
END:VEVENT
BEGIN:VEVENT
DTSTART;TZID=Europe/Zurich:20260131T080000
DTEND;TZID=Europe/Zurich:20260131T170000
DTSTAMP:20260421T205319
CREATED:20251212T225138Z
LAST-MODIFIED:20251212T225138Z
UID:781-1769846400-1769878800@www.skiclubsalins.ch
SUMMARY:Course du val d'Hérens 2026 #2
DESCRIPTION:2ème course du val d’Hérens du trophée Hérens-Nendaz
URL:https://www.skiclubsalins.ch/evenement/course-du-val-dherens-2026-2/
LOCATION:Thyon\, Thyon
END:VEVENT
BEGIN:VEVENT
DTSTART;TZID=Europe/Zurich:20260131T133000
DTEND;TZID=Europe/Zurich:20260131T163000
DTSTAMP:20260421T205319
CREATED:20251212T221952Z
LAST-MODIFIED:20251215T191847Z
UID:731-1769866200-1769877000@www.skiclubsalins.ch
SUMMARY:Cours de ski enfants 2026 #4
DESCRIPTION:4ème journée des cours de ski enfants
URL:https://www.skiclubsalins.ch/evenement/cours-de-ski-enfants-2026-4/
LOCATION:Point de rendez-vous ESS au sommet de la piste de l’Ours
CATEGORIES:Ski jeunesse
END:VEVENT
BEGIN:VEVENT
DTSTART;TZID=Europe/Zurich:20260131T140000
DTEND;TZID=Europe/Zurich:20260131T160000
DTSTAMP:20260421T205319
CREATED:20251212T223541Z
LAST-MODIFIED:20251215T192249Z
UID:753-1769868000-1769875200@www.skiclubsalins.ch
SUMMARY:Cours de ski adultes 2026 #3
DESCRIPTION:3ème journée des cours de ski adultes
URL:https://www.skiclubsalins.ch/evenement/cours-de-ski-adultes-2026-3/
LOCATION:Point de rendez-vous ESS au sommet de la piste de l’Ours
CATEGORIES:Ski pour adultes
END:VEVENT
END:VCALENDAR